BEGIN:VCALENDAR
VERSION:2.0
PRODID:-//ITCMI - ECPv6.15.12.2//NONSGML v1.0//EN
CALSCALE:GREGORIAN
METHOD:PUBLISH
X-WR-CALNAME:ITCMI
X-ORIGINAL-URL:https://www.itcmi.org
X-WR-CALDESC:Events for ITCMI
REFRESH-INTERVAL;VALUE=DURATION:PT1H
X-Robots-Tag:noindex
X-PUBLISHED-TTL:PT1H
BEGIN:VTIMEZONE
TZID:UTC
BEGIN:STANDARD
TZOFFSETFROM:+0000
TZOFFSETTO:+0000
TZNAME:UTC
DTSTART:20240101T000000
END:STANDARD
END:VTIMEZONE
BEGIN:VEVENT
DTSTART;VALUE=DATE:20250606
DTEND;VALUE=DATE:20250607
DTSTAMP:20260424T093915
CREATED:20250212T185453Z
LAST-MODIFIED:20250403T201245Z
UID:7896-1749168000-1749254399@www.itcmi.org
SUMMARY:Light Up The Rez 5K and Turtle Trot
DESCRIPTION:Recovery Gala18+ Recovery Social Event Presented by Sault Tribe & Bay Mills Behavioral Health Join us for an unforgettable night!  Dress up or come as you are!  Admission is free! DinnerDancingDJPhoto BoothDoor PrizesFriday\, May 15\, 20267 – 10 PM Big Bear Arena2 Ice CircleSault Ste. Marie\, MI 49783 Questions:ssundstrom@saulttribe.net 								\n				\n					\n		\n					\n		\n				\n						\n					\n			\n						\n				\n									\n					\n						\n									DOWNLOAD FLIER
URL:https://www.itcmi.org/event/light-up-the-rez-5k-and-turtle-trot/
LOCATION:MI
ATTACH;FMTTYPE=image/jpeg:https://www.itcmi.org/wp-content/uploads/2025/02/5K_and_Turtle_Trot_2025_mini_v2.jpg
END:VEVENT
END:VCALENDAR