BEGIN:VCALENDAR
VERSION:2.0
PRODID:-//ITCMI - ECPv6.15.12.2//NONSGML v1.0//EN
CALSCALE:GREGORIAN
METHOD:PUBLISH
X-WR-CALNAME:ITCMI
X-ORIGINAL-URL:https://www.itcmi.org
X-WR-CALDESC:Events for ITCMI
REFRESH-INTERVAL;VALUE=DURATION:PT1H
X-Robots-Tag:noindex
X-PUBLISHED-TTL:PT1H
BEGIN:VTIMEZONE
TZID:UTC
BEGIN:STANDARD
TZOFFSETFROM:+0000
TZOFFSETTO:+0000
TZNAME:UTC
DTSTART:20240101T000000
END:STANDARD
END:VTIMEZONE
BEGIN:VEVENT
DTSTART;VALUE=DATE:20250610
DTEND;VALUE=DATE:20250613
DTSTAMP:20260420T134000
CREATED:20250404T175545Z
LAST-MODIFIED:20250404T180004Z
UID:8073-1749513600-1749772799@www.itcmi.org
SUMMARY:GONA Rooted in Wellness
DESCRIPTION:Recovery Gala18+ Recovery Social Event Presented by Sault Tribe & Bay Mills Behavioral Health Join us for an unforgettable night!  Dress up or come as you are!  Admission is free! DinnerDancingDJPhoto BoothDoor PrizesFriday\, May 15\, 20267 – 10 PM Big Bear Arena2 Ice CircleSault Ste. Marie\, MI 49783 Questions:ssundstrom@saulttribe.net 								\n				\n					\n		\n					\n		\n				\n						\n					\n			\n						\n				\n									\n					\n						\n									DOWNLOAD FLIER
URL:https://www.itcmi.org/event/gona-rooted-in-wellness/
LOCATION:Bay Mills Resort and Casino\, 11386 W. Lakeshore Drive\, Brimley\, 49715\, United States
ATTACH;FMTTYPE=image/png:https://www.itcmi.org/wp-content/uploads/2025/04/GONA-Rooted-in-Wellness-Flyer-363.png
END:VEVENT
END:VCALENDAR