BEGIN:VCALENDAR
VERSION:2.0
PRODID:-//ITCMI - ECPv6.15.12.2//NONSGML v1.0//EN
CALSCALE:GREGORIAN
METHOD:PUBLISH
X-WR-CALNAME:ITCMI
X-ORIGINAL-URL:https://www.itcmi.org
X-WR-CALDESC:Events for ITCMI
REFRESH-INTERVAL;VALUE=DURATION:PT1H
X-Robots-Tag:noindex
X-PUBLISHED-TTL:PT1H
BEGIN:VTIMEZONE
TZID:UTC
BEGIN:STANDARD
TZOFFSETFROM:+0000
TZOFFSETTO:+0000
TZNAME:UTC
DTSTART:20240101T000000
END:STANDARD
END:VTIMEZONE
BEGIN:VEVENT
DTSTART;TZID=UTC:20250717T140000
DTEND;TZID=UTC:20250717T150000
DTSTAMP:20260424T113247
CREATED:20250407T191130Z
LAST-MODIFIED:20250407T191130Z
UID:8090-1752760800-1752764400@www.itcmi.org
SUMMARY:Healthy Native People Coalition
DESCRIPTION:Recovery Gala18+ Recovery Social Event Presented by Sault Tribe & Bay Mills Behavioral Health Join us for an unforgettable night!  Dress up or come as you are!  Admission is free! DinnerDancingDJPhoto BoothDoor PrizesFriday\, May 15\, 20267 – 10 PM Big Bear Arena2 Ice CircleSault Ste. Marie\, MI 49783 Questions:ssundstrom@saulttribe.net 								\n				\n					\n		\n					\n		\n				\n						\n					\n			\n						\n				\n									\n					\n						\n									DOWNLOAD FLIER
URL:https://www.itcmi.org/event/healthy-native-people-coalition-4/
LOCATION:MI
ATTACH;FMTTYPE=image/png:https://www.itcmi.org/wp-content/uploads/2025/04/HNPC-Flyer.png
END:VEVENT
BEGIN:VEVENT
DTSTART;TZID=UTC:20250717T160000
DTEND;TZID=UTC:20250717T183000
DTSTAMP:20260424T113247
CREATED:20250521T140713Z
LAST-MODIFIED:20250521T140713Z
UID:8222-1752768000-1752777000@www.itcmi.org
SUMMARY:Brimley Bay Mills Farmers Market
DESCRIPTION:Recovery Gala18+ Recovery Social Event Presented by Sault Tribe & Bay Mills Behavioral Health Join us for an unforgettable night!  Dress up or come as you are!  Admission is free! DinnerDancingDJPhoto BoothDoor PrizesFriday\, May 15\, 20267 – 10 PM Big Bear Arena2 Ice CircleSault Ste. Marie\, MI 49783 Questions:ssundstrom@saulttribe.net 								\n				\n					\n		\n					\n		\n				\n						\n					\n			\n						\n				\n									\n					\n						\n									DOWNLOAD FLIER
URL:https://www.itcmi.org/event/brimley-bay-mills-farmers-market-2/
LOCATION:Bay Mills Farmers Market Pavilion\, 11644 West Plantion Road\, Brimley\, 49715\, United States
ATTACH;FMTTYPE=image/png:https://www.itcmi.org/wp-content/uploads/2025/05/2025-Farmers-Market.png
END:VEVENT
END:VCALENDAR