BEGIN:VCALENDAR
VERSION:2.0
PRODID:-//ITCMI - ECPv6.15.12.2//NONSGML v1.0//EN
CALSCALE:GREGORIAN
METHOD:PUBLISH
X-ORIGINAL-URL:https://www.itcmi.org
X-WR-CALDESC:Events for ITCMI
REFRESH-INTERVAL;VALUE=DURATION:PT1H
X-Robots-Tag:noindex
X-PUBLISHED-TTL:PT1H
BEGIN:VTIMEZONE
TZID:UTC
BEGIN:STANDARD
TZOFFSETFROM:+0000
TZOFFSETTO:+0000
TZNAME:UTC
DTSTART:20240101T000000
END:STANDARD
END:VTIMEZONE
BEGIN:VEVENT
DTSTART;TZID=UTC:20250805T090000
DTEND;TZID=UTC:20250806T140000
DTSTAMP:20260424T130938
CREATED:20250715T151757Z
LAST-MODIFIED:20250715T152232Z
UID:8295-1754384400-1754488800@www.itcmi.org
SUMMARY:HOPE GONA at Kewadin Casino
DESCRIPTION:Recovery Gala18+ Recovery Social Event Presented by Sault Tribe & Bay Mills Behavioral Health Join us for an unforgettable night!  Dress up or come as you are!  Admission is free! DinnerDancingDJPhoto BoothDoor PrizesFriday\, May 15\, 20267 – 10 PM Big Bear Arena2 Ice CircleSault Ste. Marie\, MI 49783 Questions:ssundstrom@saulttribe.net 								\n				\n					\n		\n					\n		\n				\n						\n					\n			\n						\n				\n									\n					\n						\n									DOWNLOAD FLIER
URL:https://www.itcmi.org/event/hope-gona-at-kewadin-casino/
LOCATION:Kewadin Casinos | Sault Ste. Marie\, 2186 Shunk Road\, Sault Sainte Marie\, MI\, 49783\, United States
ATTACH;FMTTYPE=image/png:https://www.itcmi.org/wp-content/uploads/2025/07/HOPE-GONA-ST-BMIC-8.5-x-14-in.png
END:VEVENT
BEGIN:VEVENT
DTSTART;TZID=UTC:20250805T093000
DTEND;TZID=UTC:20250806T140000
DTSTAMP:20260424T130938
CREATED:20250710T144415Z
LAST-MODIFIED:20250710T144643Z
UID:8289-1754386200-1754488800@www.itcmi.org
SUMMARY:Healing Oncology Partnerships for Equity (HOPE) Listening Session Amplifies Tribal Voices to Improve Cancer Care Access in Sault Ste. Marie
DESCRIPTION:Recovery Gala18+ Recovery Social Event Presented by Sault Tribe & Bay Mills Behavioral Health Join us for an unforgettable night!  Dress up or come as you are!  Admission is free! DinnerDancingDJPhoto BoothDoor PrizesFriday\, May 15\, 20267 – 10 PM Big Bear Arena2 Ice CircleSault Ste. Marie\, MI 49783 Questions:ssundstrom@saulttribe.net 								\n				\n					\n		\n					\n		\n				\n						\n					\n			\n						\n				\n									\n					\n						\n									DOWNLOAD FLIER
URL:https://www.itcmi.org/event/healing-oncology-partnerships-for-equity-hope-listening-session-amplifies-tribal-voices-to-improve-cancer-care-access-in-sault-ste-marie/
LOCATION:Kewadin Casinos | Sault Ste. Marie\, 2186 Shunk Road\, Sault Sainte Marie\, MI\, 49783\, United States
ATTACH;FMTTYPE=image/png:https://www.itcmi.org/wp-content/uploads/2025/06/Talking-Circle.png
ORGANIZER;CN="Chelby Archambeau":MAILTO:chelby.archambeau@itcmi.org
END:VEVENT
BEGIN:VEVENT
DTSTART;TZID=UTC:20250806T100000
DTEND;TZID=UTC:20250806T113000
DTSTAMP:20260424T130938
CREATED:20250731T130636Z
LAST-MODIFIED:20250731T130827Z
UID:8375-1754474400-1754479800@www.itcmi.org
SUMMARY:Summer Socials - Bay Mills
DESCRIPTION:Recovery Gala18+ Recovery Social Event Presented by Sault Tribe & Bay Mills Behavioral Health Join us for an unforgettable night!  Dress up or come as you are!  Admission is free! DinnerDancingDJPhoto BoothDoor PrizesFriday\, May 15\, 20267 – 10 PM Big Bear Arena2 Ice CircleSault Ste. Marie\, MI 49783 Questions:ssundstrom@saulttribe.net 								\n				\n					\n		\n					\n		\n				\n						\n					\n			\n						\n				\n									\n					\n						\n									DOWNLOAD FLIER
URL:https://www.itcmi.org/event/summer-socials-bay-mills/
LOCATION:Memorial Park\, 1161 S. Memorial Drive\, Brimley\, MI\, 49715\, United States
ATTACH;FMTTYPE=image/png:https://www.itcmi.org/wp-content/uploads/2025/07/Summer-Socials_Page_2.png
END:VEVENT
BEGIN:VEVENT
DTSTART;TZID=UTC:20250806T170000
DTEND;TZID=UTC:20250806T180000
DTSTAMP:20260424T130938
CREATED:20250724T180028Z
LAST-MODIFIED:20250724T180105Z
UID:8348-1754499600-1754503200@www.itcmi.org
SUMMARY:National Root Beer Float Day
DESCRIPTION:Recovery Gala18+ Recovery Social Event Presented by Sault Tribe & Bay Mills Behavioral Health Join us for an unforgettable night!  Dress up or come as you are!  Admission is free! DinnerDancingDJPhoto BoothDoor PrizesFriday\, May 15\, 20267 – 10 PM Big Bear Arena2 Ice CircleSault Ste. Marie\, MI 49783 Questions:ssundstrom@saulttribe.net 								\n				\n					\n		\n					\n		\n				\n						\n					\n			\n						\n				\n									\n					\n						\n									DOWNLOAD FLIER
URL:https://www.itcmi.org/event/national-root-beer-float-day/
LOCATION:KBIC Health System\, 102 N Superior Avenue\, Baraga\, MI\, 49908\, United States
ATTACH;FMTTYPE=image/png:https://www.itcmi.org/wp-content/uploads/2025/07/Root-Beer-Float-Event.png
END:VEVENT
BEGIN:VEVENT
DTSTART;TZID=UTC:20250806T173000
DTEND;TZID=UTC:20250806T190000
DTSTAMP:20260424T130938
CREATED:20250521T144114Z
LAST-MODIFIED:20250521T144114Z
UID:8243-1754501400-1754506800@www.itcmi.org
SUMMARY:Better Sleep Workshop Series
DESCRIPTION:Recovery Gala18+ Recovery Social Event Presented by Sault Tribe & Bay Mills Behavioral Health Join us for an unforgettable night!  Dress up or come as you are!  Admission is free! DinnerDancingDJPhoto BoothDoor PrizesFriday\, May 15\, 20267 – 10 PM Big Bear Arena2 Ice CircleSault Ste. Marie\, MI 49783 Questions:ssundstrom@saulttribe.net 								\n				\n					\n		\n					\n		\n				\n						\n					\n			\n						\n				\n									\n					\n						\n									DOWNLOAD FLIER
URL:https://www.itcmi.org/event/better-sleep-workshop-series-5/
LOCATION:MI
ATTACH;FMTTYPE=image/png:https://www.itcmi.org/wp-content/uploads/2025/05/Better-Sleep-Series.png
END:VEVENT
END:VCALENDAR