BEGIN:VCALENDAR
VERSION:2.0
PRODID:-//ITCMI - ECPv6.15.12.2//NONSGML v1.0//EN
CALSCALE:GREGORIAN
METHOD:PUBLISH
X-WR-CALNAME:ITCMI
X-ORIGINAL-URL:https://www.itcmi.org
X-WR-CALDESC:Events for ITCMI
REFRESH-INTERVAL;VALUE=DURATION:PT1H
X-Robots-Tag:noindex
X-PUBLISHED-TTL:PT1H
BEGIN:VTIMEZONE
TZID:UTC
BEGIN:STANDARD
TZOFFSETFROM:+0000
TZOFFSETTO:+0000
TZNAME:UTC
DTSTART:20240101T000000
END:STANDARD
END:VTIMEZONE
BEGIN:VEVENT
DTSTART;TZID=UTC:20250822T080000
DTEND;TZID=UTC:20250822T160000
DTSTAMP:20260424T130417
CREATED:20250722T175037Z
LAST-MODIFIED:20250723T140031Z
UID:8325-1755849600-1755878400@www.itcmi.org
SUMMARY:Stop the Harm\, Start the Healing
DESCRIPTION:Recovery Gala18+ Recovery Social Event Presented by Sault Tribe & Bay Mills Behavioral Health Join us for an unforgettable night!  Dress up or come as you are!  Admission is free! DinnerDancingDJPhoto BoothDoor PrizesFriday\, May 15\, 20267 – 10 PM Big Bear Arena2 Ice CircleSault Ste. Marie\, MI 49783 Questions:ssundstrom@saulttribe.net 								\n				\n					\n		\n					\n		\n				\n						\n					\n			\n						\n				\n									\n					\n						\n									DOWNLOAD FLIER
URL:https://www.itcmi.org/event/stop-the-harm-start-the-healing/
LOCATION:Bay Mills Resort and Casino\, 11386 W. Lakeshore Drive\, Brimley\, 49715\, United States
ATTACH;FMTTYPE=image/png:https://www.itcmi.org/wp-content/uploads/2025/07/Stop-the-Harm-Start-the-Healing-flier.png
END:VEVENT
BEGIN:VEVENT
DTSTART;TZID=UTC:20250822T160000
DTEND;TZID=UTC:20250822T200000
DTSTAMP:20260424T130417
CREATED:20250730T153356Z
LAST-MODIFIED:20250730T153628Z
UID:8360-1755878400-1755892800@www.itcmi.org
SUMMARY:Bagodowe Engiitaading - Lacrosse Tournament
DESCRIPTION:Recovery Gala18+ Recovery Social Event Presented by Sault Tribe & Bay Mills Behavioral Health Join us for an unforgettable night!  Dress up or come as you are!  Admission is free! DinnerDancingDJPhoto BoothDoor PrizesFriday\, May 15\, 20267 – 10 PM Big Bear Arena2 Ice CircleSault Ste. Marie\, MI 49783 Questions:ssundstrom@saulttribe.net 								\n				\n					\n		\n					\n		\n				\n						\n					\n			\n						\n				\n									\n					\n						\n									DOWNLOAD FLIER
URL:https://www.itcmi.org/event/bagodowe-engiitaading-lacrosse-tournament/
LOCATION:Seventh Generation Powwow Grounds\, 7957 E. Remus Road\, MI\, 48858\, United States
ATTACH;FMTTYPE=image/png:https://www.itcmi.org/wp-content/uploads/2025/07/2025_Bagodowe-Lacrosse-Tournament-Peoples-Powwow-2.png
END:VEVENT
END:VCALENDAR