BEGIN:VCALENDAR
VERSION:2.0
PRODID:-//ITCMI - ECPv6.15.12.2//NONSGML v1.0//EN
CALSCALE:GREGORIAN
METHOD:PUBLISH
X-WR-CALNAME:ITCMI
X-ORIGINAL-URL:https://www.itcmi.org
X-WR-CALDESC:Events for ITCMI
REFRESH-INTERVAL;VALUE=DURATION:PT1H
X-Robots-Tag:noindex
X-PUBLISHED-TTL:PT1H
BEGIN:VTIMEZONE
TZID:UTC
BEGIN:STANDARD
TZOFFSETFROM:+0000
TZOFFSETTO:+0000
TZNAME:UTC
DTSTART:20250101T000000
END:STANDARD
END:VTIMEZONE
BEGIN:VEVENT
DTSTART;TZID=UTC:20260311T173000
DTEND;TZID=UTC:20260311T190000
DTSTAMP:20260419T121835
CREATED:20260204T143956Z
LAST-MODIFIED:20260204T152347Z
UID:8578-1773250200-1773255600@www.itcmi.org
SUMMARY:Positive Indian Parenting Class
DESCRIPTION:Recovery Gala18+ Recovery Social Event Presented by Sault Tribe & Bay Mills Behavioral Health Join us for an unforgettable night!  Dress up or come as you are!  Admission is free! DinnerDancingDJPhoto BoothDoor PrizesFriday\, May 15\, 20267 – 10 PM Big Bear Arena2 Ice CircleSault Ste. Marie\, MI 49783 Questions:ssundstrom@saulttribe.net 								\n				\n					\n		\n					\n		\n				\n						\n					\n			\n						\n				\n									\n					\n						\n									DOWNLOAD FLIER
URL:https://www.itcmi.org/event/positive-indian-parenting-class-4/
LOCATION:MI
ATTACH;FMTTYPE=image/jpeg:https://www.itcmi.org/wp-content/uploads/2026/02/Positive-Indian-Parenting-Class.jpg
END:VEVENT
END:VCALENDAR