BEGIN:VCALENDAR
VERSION:2.0
PRODID:-//ITCMI - ECPv6.15.12.2//NONSGML v1.0//EN
CALSCALE:GREGORIAN
METHOD:PUBLISH
X-WR-CALNAME:ITCMI
X-ORIGINAL-URL:https://www.itcmi.org
X-WR-CALDESC:Events for ITCMI
REFRESH-INTERVAL;VALUE=DURATION:PT1H
X-Robots-Tag:noindex
X-PUBLISHED-TTL:PT1H
BEGIN:VTIMEZONE
TZID:UTC
BEGIN:STANDARD
TZOFFSETFROM:+0000
TZOFFSETTO:+0000
TZNAME:UTC
DTSTART:20240101T000000
END:STANDARD
END:VTIMEZONE
BEGIN:VEVENT
DTSTART;TZID=UTC:20250412T100000
DTEND;TZID=UTC:20250412T140000
DTSTAMP:20260420T152608
CREATED:20250311T134851Z
LAST-MODIFIED:20250403T200143Z
UID:7989-1744452000-1744466400@www.itcmi.org
SUMMARY:Mandaamin Celebration
DESCRIPTION:14th Annual Alive and Running VA 5K Run/Walk for Suicide AwarenessSaturday\, September 12\, 20259 am Battle Creek VA Medical Center5500 Armstrong RoadBattle Creek\, MI 49037 www.aliveandrunningva.com 								\n				\n					\n		\n					\n		\n				\n						\n					\n			\n						\n				\n									\n					\n						\n									DOWNLOAD FLIER
URL:https://www.itcmi.org/event/mandaamin-celebration/
ATTACH;FMTTYPE=image/png:https://www.itcmi.org/wp-content/uploads/2025/03/04122025-Mandaamin-Celebration.png
END:VEVENT
BEGIN:VEVENT
DTSTART;TZID=UTC:20250411T090000
DTEND;TZID=UTC:20250411T140000
DTSTAMP:20260420T152608
CREATED:20250321T131811Z
LAST-MODIFIED:20250403T200114Z
UID:8026-1744362000-1744380000@www.itcmi.org
SUMMARY:Teen Health Fair
DESCRIPTION:14th Annual Alive and Running VA 5K Run/Walk for Suicide AwarenessSaturday\, September 12\, 20259 am Battle Creek VA Medical Center5500 Armstrong RoadBattle Creek\, MI 49037 www.aliveandrunningva.com 								\n				\n					\n		\n					\n		\n				\n						\n					\n			\n						\n				\n									\n					\n						\n									DOWNLOAD FLIER
URL:https://www.itcmi.org/event/teen-health-fair/
LOCATION:Rudyard High School\, 11185 W 2nd Street\, Rudyard\, 49780\, United States
ATTACH;FMTTYPE=image/png:https://www.itcmi.org/wp-content/uploads/2025/03/04112025-Flyer-Rudyard-Teen-Health-Fair.png
END:VEVENT
BEGIN:VEVENT
DTSTART;TZID=UTC:20250410T180000
DTEND;TZID=UTC:20250410T193000
DTSTAMP:20260420T152608
CREATED:20250404T122944Z
LAST-MODIFIED:20250404T123054Z
UID:8067-1744308000-1744313400@www.itcmi.org
SUMMARY:Preventing Tobacco Related Cancer:  The Role of Dental Professionals
DESCRIPTION:14th Annual Alive and Running VA 5K Run/Walk for Suicide AwarenessSaturday\, September 12\, 20259 am Battle Creek VA Medical Center5500 Armstrong RoadBattle Creek\, MI 49037 www.aliveandrunningva.com 								\n				\n					\n		\n					\n		\n				\n						\n					\n			\n						\n				\n									\n					\n						\n									DOWNLOAD FLIER
URL:https://www.itcmi.org/event/preventing-tobacco-related-cancer-the-role-of-dental-professionals/
ATTACH;FMTTYPE=image/png:https://www.itcmi.org/wp-content/uploads/2025/04/04102025-Tobacco-With-Titles.png
END:VEVENT
BEGIN:VEVENT
DTSTART;TZID=UTC:20250409T150000
DTEND;TZID=UTC:20250409T160000
DTSTAMP:20260420T152608
CREATED:20250319T175936Z
LAST-MODIFIED:20250403T200044Z
UID:8019-1744210800-1744214400@www.itcmi.org
SUMMARY:Traditional Tobacco Teachings Webinar
DESCRIPTION:14th Annual Alive and Running VA 5K Run/Walk for Suicide AwarenessSaturday\, September 12\, 20259 am Battle Creek VA Medical Center5500 Armstrong RoadBattle Creek\, MI 49037 www.aliveandrunningva.com 								\n				\n					\n		\n					\n		\n				\n						\n					\n			\n						\n				\n									\n					\n						\n									DOWNLOAD FLIER
URL:https://www.itcmi.org/event/traditional-tobacco-teachings-webinar/
ATTACH;FMTTYPE=image/png:https://www.itcmi.org/wp-content/uploads/2025/03/04092025-Webinar-IG-Post.png
ORGANIZER;CN="Ashley Young":MAILTO:ashley.young@itcmi.org
END:VEVENT
BEGIN:VEVENT
DTSTART;TZID=UTC:20250409T110000
DTEND;TZID=UTC:20250409T120000
DTSTAMP:20260420T152608
CREATED:20250321T135229Z
LAST-MODIFIED:20250403T200002Z
UID:8035-1744196400-1744200000@www.itcmi.org
SUMMARY:Healthy Start Family Play Group
DESCRIPTION:14th Annual Alive and Running VA 5K Run/Walk for Suicide AwarenessSaturday\, September 12\, 20259 am Battle Creek VA Medical Center5500 Armstrong RoadBattle Creek\, MI 49037 www.aliveandrunningva.com 								\n				\n					\n		\n					\n		\n				\n						\n					\n			\n						\n				\n									\n					\n						\n									DOWNLOAD FLIER
URL:https://www.itcmi.org/event/healthy-start-family-play-group/
LOCATION:American Indian Health and Family Services\, 4880 Lawndale\, Detroit\, 48210\, United States
ATTACH;FMTTYPE=image/png:https://www.itcmi.org/wp-content/uploads/2025/03/Play-Group.png
END:VEVENT
BEGIN:VEVENT
DTSTART;VALUE=DATE:20250401
DTEND;VALUE=DATE:20250404
DTSTAMP:20260420T152608
CREATED:20250312T181210Z
LAST-MODIFIED:20250403T195932Z
UID:7996-1743465600-1743724799@www.itcmi.org
SUMMARY:Tribal Public Health Conference
DESCRIPTION:14th Annual Alive and Running VA 5K Run/Walk for Suicide AwarenessSaturday\, September 12\, 20259 am Battle Creek VA Medical Center5500 Armstrong RoadBattle Creek\, MI 49037 www.aliveandrunningva.com 								\n				\n					\n		\n					\n		\n				\n						\n					\n			\n						\n				\n									\n					\n						\n									DOWNLOAD FLIER
URL:https://www.itcmi.org/event/tribal-public-health-conference/
LOCATION:Choctaw Casino & Resort\, 4216 US-69\, Durant\, OK\, 74701\, United States
ATTACH;FMTTYPE=image/png:https://www.itcmi.org/wp-content/uploads/2025/03/welcome_banner_whova_750x300.png
END:VEVENT
END:VCALENDAR