BEGIN:VCALENDAR
VERSION:2.0
PRODID:-//ITCMI - ECPv6.15.12.2//NONSGML v1.0//EN
CALSCALE:GREGORIAN
METHOD:PUBLISH
X-WR-CALNAME:ITCMI
X-ORIGINAL-URL:https://www.itcmi.org
X-WR-CALDESC:Events for ITCMI
REFRESH-INTERVAL;VALUE=DURATION:PT1H
X-Robots-Tag:noindex
X-PUBLISHED-TTL:PT1H
BEGIN:VTIMEZONE
TZID:UTC
BEGIN:STANDARD
TZOFFSETFROM:+0000
TZOFFSETTO:+0000
TZNAME:UTC
DTSTART:20240101T000000
END:STANDARD
END:VTIMEZONE
BEGIN:VEVENT
DTSTART;VALUE=DATE:20251103
DTEND;VALUE=DATE:20251126
DTSTAMP:20260419T195724
CREATED:20251103T133747Z
LAST-MODIFIED:20251103T134031Z
UID:8492-1762128000-1764115199@www.itcmi.org
SUMMARY:Sault Tribe Health Division Food Drive
DESCRIPTION:14th Annual Alive and Running VA 5K Run/Walk for Suicide AwarenessSaturday\, September 12\, 20259 am Battle Creek VA Medical Center5500 Armstrong RoadBattle Creek\, MI 49037 www.aliveandrunningva.com 								\n				\n					\n		\n					\n		\n				\n						\n					\n			\n						\n				\n									\n					\n						\n									DOWNLOAD FLIER
URL:https://www.itcmi.org/event/sault-tribe-health-division-food-drive/
LOCATION:Sault Tribe Health Center – Sault Ste. Marie\, 2864 Ashmun Street\, Sault Sainte Marie\, MI\, 49783\, United States
ATTACH;FMTTYPE=image/png:https://www.itcmi.org/wp-content/uploads/2025/11/Sault-Tribe-Health-Division-Food-Drive-IG-Post.png
END:VEVENT
BEGIN:VEVENT
DTSTART;TZID=UTC:20251030T160000
DTEND;TZID=UTC:20251030T183000
DTSTAMP:20260419T195724
CREATED:20250521T141609Z
LAST-MODIFIED:20250521T141609Z
UID:8237-1761840000-1761849000@www.itcmi.org
SUMMARY:Brimley Bay Mills Farmers Market
DESCRIPTION:14th Annual Alive and Running VA 5K Run/Walk for Suicide AwarenessSaturday\, September 12\, 20259 am Battle Creek VA Medical Center5500 Armstrong RoadBattle Creek\, MI 49037 www.aliveandrunningva.com 								\n				\n					\n		\n					\n		\n				\n						\n					\n			\n						\n				\n									\n					\n						\n									DOWNLOAD FLIER
URL:https://www.itcmi.org/event/brimley-bay-mills-farmers-market-17/
LOCATION:Bay Mills Farmers Market Pavilion\, 11644 West Plantion Road\, Brimley\, 49715\, United States
ATTACH;FMTTYPE=image/png:https://www.itcmi.org/wp-content/uploads/2025/05/2025-Farmers-Market.png
END:VEVENT
BEGIN:VEVENT
DTSTART;TZID=UTC:20251029T173000
DTEND;TZID=UTC:20251029T190000
DTSTAMP:20260419T195724
CREATED:20250521T145112Z
LAST-MODIFIED:20251017T134524Z
UID:8253-1761759000-1761764400@www.itcmi.org
SUMMARY:Better Sleep Workshop Series
DESCRIPTION:14th Annual Alive and Running VA 5K Run/Walk for Suicide AwarenessSaturday\, September 12\, 20259 am Battle Creek VA Medical Center5500 Armstrong RoadBattle Creek\, MI 49037 www.aliveandrunningva.com 								\n				\n					\n		\n					\n		\n				\n						\n					\n			\n						\n				\n									\n					\n						\n									DOWNLOAD FLIER
URL:https://www.itcmi.org/event/better-sleep-workshop-series-15/
ATTACH;FMTTYPE=image/png:https://www.itcmi.org/wp-content/uploads/2025/05/Better-Sleep-Series.png
END:VEVENT
BEGIN:VEVENT
DTSTART;TZID=UTC:20251028T100000
DTEND;TZID=UTC:20251028T110000
DTSTAMP:20260419T195724
CREATED:20250521T135336Z
LAST-MODIFIED:20251017T134144Z
UID:8216-1761645600-1761649200@www.itcmi.org
SUMMARY:Caregiver Coffee Hour
DESCRIPTION:14th Annual Alive and Running VA 5K Run/Walk for Suicide AwarenessSaturday\, September 12\, 20259 am Battle Creek VA Medical Center5500 Armstrong RoadBattle Creek\, MI 49037 www.aliveandrunningva.com 								\n				\n					\n		\n					\n		\n				\n						\n					\n			\n						\n				\n									\n					\n						\n									DOWNLOAD FLIER
URL:https://www.itcmi.org/event/caregiver-coffee-hour-6/
ATTACH;FMTTYPE=image/png:https://www.itcmi.org/wp-content/uploads/2025/05/Caregiver-Coffee-Hour-Flyer.png
END:VEVENT
BEGIN:VEVENT
DTSTART;TZID=UTC:20251023T160000
DTEND;TZID=UTC:20251023T183000
DTSTAMP:20260419T195724
CREATED:20250521T141541Z
LAST-MODIFIED:20250521T141541Z
UID:8236-1761235200-1761244200@www.itcmi.org
SUMMARY:Brimley Bay Mills Farmers Market
DESCRIPTION:14th Annual Alive and Running VA 5K Run/Walk for Suicide AwarenessSaturday\, September 12\, 20259 am Battle Creek VA Medical Center5500 Armstrong RoadBattle Creek\, MI 49037 www.aliveandrunningva.com 								\n				\n					\n		\n					\n		\n				\n						\n					\n			\n						\n				\n									\n					\n						\n									DOWNLOAD FLIER
URL:https://www.itcmi.org/event/brimley-bay-mills-farmers-market-16/
LOCATION:Bay Mills Farmers Market Pavilion\, 11644 West Plantion Road\, Brimley\, 49715\, United States
ATTACH;FMTTYPE=image/png:https://www.itcmi.org/wp-content/uploads/2025/05/2025-Farmers-Market.png
END:VEVENT
BEGIN:VEVENT
DTSTART;TZID=UTC:20251022T173000
DTEND;TZID=UTC:20251022T190000
DTSTAMP:20260419T195724
CREATED:20250521T145035Z
LAST-MODIFIED:20251017T134421Z
UID:8252-1761154200-1761159600@www.itcmi.org
SUMMARY:Better Sleep Workshop Series
DESCRIPTION:14th Annual Alive and Running VA 5K Run/Walk for Suicide AwarenessSaturday\, September 12\, 20259 am Battle Creek VA Medical Center5500 Armstrong RoadBattle Creek\, MI 49037 www.aliveandrunningva.com 								\n				\n					\n		\n					\n		\n				\n						\n					\n			\n						\n				\n									\n					\n						\n									DOWNLOAD FLIER
URL:https://www.itcmi.org/event/better-sleep-workshop-series-14/
ATTACH;FMTTYPE=image/png:https://www.itcmi.org/wp-content/uploads/2025/05/Better-Sleep-Series.png
END:VEVENT
BEGIN:VEVENT
DTSTART;TZID=UTC:20251016T160000
DTEND;TZID=UTC:20251016T183000
DTSTAMP:20260419T195724
CREATED:20250521T141512Z
LAST-MODIFIED:20250521T141512Z
UID:8235-1760630400-1760639400@www.itcmi.org
SUMMARY:Brimley Bay Mills Farmers Market
DESCRIPTION:14th Annual Alive and Running VA 5K Run/Walk for Suicide AwarenessSaturday\, September 12\, 20259 am Battle Creek VA Medical Center5500 Armstrong RoadBattle Creek\, MI 49037 www.aliveandrunningva.com 								\n				\n					\n		\n					\n		\n				\n						\n					\n			\n						\n				\n									\n					\n						\n									DOWNLOAD FLIER
URL:https://www.itcmi.org/event/brimley-bay-mills-farmers-market-15/
LOCATION:Bay Mills Farmers Market Pavilion\, 11644 West Plantion Road\, Brimley\, 49715\, United States
ATTACH;FMTTYPE=image/png:https://www.itcmi.org/wp-content/uploads/2025/05/2025-Farmers-Market.png
END:VEVENT
BEGIN:VEVENT
DTSTART;TZID=UTC:20251016T140000
DTEND;TZID=UTC:20251016T150000
DTSTAMP:20260419T195724
CREATED:20250407T191320Z
LAST-MODIFIED:20250407T191320Z
UID:8093-1760623200-1760626800@www.itcmi.org
SUMMARY:Healthy Native People Coalition
DESCRIPTION:14th Annual Alive and Running VA 5K Run/Walk for Suicide AwarenessSaturday\, September 12\, 20259 am Battle Creek VA Medical Center5500 Armstrong RoadBattle Creek\, MI 49037 www.aliveandrunningva.com 								\n				\n					\n		\n					\n		\n				\n						\n					\n			\n						\n				\n									\n					\n						\n									DOWNLOAD FLIER
URL:https://www.itcmi.org/event/healthy-native-people-coalition-7/
ATTACH;FMTTYPE=image/png:https://www.itcmi.org/wp-content/uploads/2025/04/HNPC-Flyer.png
END:VEVENT
BEGIN:VEVENT
DTSTART;TZID=UTC:20251015T173000
DTEND;TZID=UTC:20251015T190000
DTSTAMP:20260419T195724
CREATED:20250521T144940Z
LAST-MODIFIED:20250521T144940Z
UID:8251-1760549400-1760554800@www.itcmi.org
SUMMARY:Better Sleep Workshop Series
DESCRIPTION:14th Annual Alive and Running VA 5K Run/Walk for Suicide AwarenessSaturday\, September 12\, 20259 am Battle Creek VA Medical Center5500 Armstrong RoadBattle Creek\, MI 49037 www.aliveandrunningva.com 								\n				\n					\n		\n					\n		\n				\n						\n					\n			\n						\n				\n									\n					\n						\n									DOWNLOAD FLIER
URL:https://www.itcmi.org/event/better-sleep-workshop-series-13/
ATTACH;FMTTYPE=image/png:https://www.itcmi.org/wp-content/uploads/2025/05/Better-Sleep-Series.png
END:VEVENT
BEGIN:VEVENT
DTSTART;VALUE=DATE:20251015
DTEND;VALUE=DATE:20251016
DTSTAMP:20260419T195724
CREATED:20250604T134858Z
LAST-MODIFIED:20251015T130431Z
UID:8266-1760486400-1760572799@www.itcmi.org
SUMMARY:Anishinaabe Culture Day
DESCRIPTION:14th Annual Alive and Running VA 5K Run/Walk for Suicide AwarenessSaturday\, September 12\, 20259 am Battle Creek VA Medical Center5500 Armstrong RoadBattle Creek\, MI 49037 www.aliveandrunningva.com 								\n				\n					\n		\n					\n		\n				\n						\n					\n			\n						\n				\n									\n					\n						\n									DOWNLOAD FLIER
URL:https://www.itcmi.org/event/anishinaabe-culture-day/
LOCATION:Grand Rapids Public Musueum\, 272 Pearl Street NW\, Grand Rapids\, MI\, 49504\, United States
ATTACH;FMTTYPE=image/png:https://www.itcmi.org/wp-content/uploads/2025/06/Anishinaabe-Culture-Day-IG-Post.png
END:VEVENT
BEGIN:VEVENT
DTSTART;TZID=UTC:20251009T160000
DTEND;TZID=UTC:20251009T183000
DTSTAMP:20260419T195724
CREATED:20250521T141433Z
LAST-MODIFIED:20250521T141433Z
UID:8234-1760025600-1760034600@www.itcmi.org
SUMMARY:Brimley Bay Mills Farmers Market
DESCRIPTION:14th Annual Alive and Running VA 5K Run/Walk for Suicide AwarenessSaturday\, September 12\, 20259 am Battle Creek VA Medical Center5500 Armstrong RoadBattle Creek\, MI 49037 www.aliveandrunningva.com 								\n				\n					\n		\n					\n		\n				\n						\n					\n			\n						\n				\n									\n					\n						\n									DOWNLOAD FLIER
URL:https://www.itcmi.org/event/brimley-bay-mills-farmers-market-14/
LOCATION:Bay Mills Farmers Market Pavilion\, 11644 West Plantion Road\, Brimley\, 49715\, United States
ATTACH;FMTTYPE=image/png:https://www.itcmi.org/wp-content/uploads/2025/05/2025-Farmers-Market.png
END:VEVENT
BEGIN:VEVENT
DTSTART;TZID=UTC:20251008T173000
DTEND;TZID=UTC:20251008T190000
DTSTAMP:20260419T195724
CREATED:20250521T144905Z
LAST-MODIFIED:20250521T144905Z
UID:8250-1759944600-1759950000@www.itcmi.org
SUMMARY:Better Sleep Workshop Series
DESCRIPTION:14th Annual Alive and Running VA 5K Run/Walk for Suicide AwarenessSaturday\, September 12\, 20259 am Battle Creek VA Medical Center5500 Armstrong RoadBattle Creek\, MI 49037 www.aliveandrunningva.com 								\n				\n					\n		\n					\n		\n				\n						\n					\n			\n						\n				\n									\n					\n						\n									DOWNLOAD FLIER
URL:https://www.itcmi.org/event/better-sleep-workshop-series-12/
ATTACH;FMTTYPE=image/png:https://www.itcmi.org/wp-content/uploads/2025/05/Better-Sleep-Series.png
END:VEVENT
BEGIN:VEVENT
DTSTART;VALUE=DATE:20251008
DTEND;VALUE=DATE:20251010
DTSTAMP:20260419T195724
CREATED:20250218T192156Z
LAST-MODIFIED:20250403T201521Z
UID:7925-1759881600-1760054399@www.itcmi.org
SUMMARY:Zero to Three Learn Conference
DESCRIPTION:14th Annual Alive and Running VA 5K Run/Walk for Suicide AwarenessSaturday\, September 12\, 20259 am Battle Creek VA Medical Center5500 Armstrong RoadBattle Creek\, MI 49037 www.aliveandrunningva.com 								\n				\n					\n		\n					\n		\n				\n						\n					\n			\n						\n				\n									\n					\n						\n									DOWNLOAD FLIER
URL:https://www.itcmi.org/event/zero-to-three-learn-conference/
LOCATION:Baltimore Convention Center\, 1 W Pratt Street\, Baltimore\, MD\, 21201\, United States
ATTACH;FMTTYPE=image/jpeg:https://www.itcmi.org/wp-content/uploads/2025/02/2025-Conference-Templates-Square.jpg
END:VEVENT
BEGIN:VEVENT
DTSTART;TZID=UTC:20251002T170000
DTEND;TZID=UTC:20251002T190000
DTSTAMP:20260419T195724
CREATED:20250820T130856Z
LAST-MODIFIED:20250820T131533Z
UID:8397-1759424400-1759431600@www.itcmi.org
SUMMARY:Climate Adaption Listening Session
DESCRIPTION:14th Annual Alive and Running VA 5K Run/Walk for Suicide AwarenessSaturday\, September 12\, 20259 am Battle Creek VA Medical Center5500 Armstrong RoadBattle Creek\, MI 49037 www.aliveandrunningva.com 								\n				\n					\n		\n					\n		\n				\n						\n					\n			\n						\n				\n									\n					\n						\n									DOWNLOAD FLIER
URL:https://www.itcmi.org/event/climate-adaption-listening-session/
LOCATION:Bay Mills Community College\, 12214 W. Lakeshore Drive\, Brimley\, 49783\, United States
ATTACH;FMTTYPE=image/png:https://www.itcmi.org/wp-content/uploads/2025/08/BMIC-Listening-Session-Save-the-Date.png
END:VEVENT
BEGIN:VEVENT
DTSTART;TZID=UTC:20251002T160000
DTEND;TZID=UTC:20251002T183000
DTSTAMP:20260419T195724
CREATED:20250521T141406Z
LAST-MODIFIED:20250521T141406Z
UID:8233-1759420800-1759429800@www.itcmi.org
SUMMARY:Brimley Bay Mills Farmers Market
DESCRIPTION:14th Annual Alive and Running VA 5K Run/Walk for Suicide AwarenessSaturday\, September 12\, 20259 am Battle Creek VA Medical Center5500 Armstrong RoadBattle Creek\, MI 49037 www.aliveandrunningva.com 								\n				\n					\n		\n					\n		\n				\n						\n					\n			\n						\n				\n									\n					\n						\n									DOWNLOAD FLIER
URL:https://www.itcmi.org/event/brimley-bay-mills-farmers-market-13/
LOCATION:Bay Mills Farmers Market Pavilion\, 11644 West Plantion Road\, Brimley\, 49715\, United States
ATTACH;FMTTYPE=image/png:https://www.itcmi.org/wp-content/uploads/2025/05/2025-Farmers-Market.png
END:VEVENT
BEGIN:VEVENT
DTSTART;TZID=UTC:20251001T173000
DTEND;TZID=UTC:20251001T190000
DTSTAMP:20260419T195724
CREATED:20250521T144748Z
LAST-MODIFIED:20250521T144748Z
UID:8249-1759339800-1759345200@www.itcmi.org
SUMMARY:Better Sleep Workshop Series
DESCRIPTION:14th Annual Alive and Running VA 5K Run/Walk for Suicide AwarenessSaturday\, September 12\, 20259 am Battle Creek VA Medical Center5500 Armstrong RoadBattle Creek\, MI 49037 www.aliveandrunningva.com 								\n				\n					\n		\n					\n		\n				\n						\n					\n			\n						\n				\n									\n					\n						\n									DOWNLOAD FLIER
URL:https://www.itcmi.org/event/better-sleep-workshop-series-11/
ATTACH;FMTTYPE=image/png:https://www.itcmi.org/wp-content/uploads/2025/05/Better-Sleep-Series.png
END:VEVENT
BEGIN:VEVENT
DTSTART;VALUE=DATE:20251001
DTEND;VALUE=DATE:20251004
DTSTAMP:20260419T195724
CREATED:20250919T133728Z
LAST-MODIFIED:20250919T134015Z
UID:8459-1759276800-1759535999@www.itcmi.org
SUMMARY:Tahoma Peak Solutions Native Grown & Gathered Food Expo
DESCRIPTION:14th Annual Alive and Running VA 5K Run/Walk for Suicide AwarenessSaturday\, September 12\, 20259 am Battle Creek VA Medical Center5500 Armstrong RoadBattle Creek\, MI 49037 www.aliveandrunningva.com 								\n				\n					\n		\n					\n		\n				\n						\n					\n			\n						\n				\n									\n					\n						\n									DOWNLOAD FLIER
URL:https://www.itcmi.org/event/tahoma-peak-solutions-native-grown-gathered-food-expo/
ATTACH;FMTTYPE=image/png:https://www.itcmi.org/wp-content/uploads/2025/09/Tahoma-Peak-Solutions-Native-Grown-Gathered-Food-Expo.png
END:VEVENT
BEGIN:VEVENT
DTSTART;TZID=UTC:20250930T100000
DTEND;TZID=UTC:20250930T110000
DTSTAMP:20260419T195724
CREATED:20250521T135259Z
LAST-MODIFIED:20250521T135259Z
UID:8215-1759226400-1759230000@www.itcmi.org
SUMMARY:Caregiver Coffee Hour
DESCRIPTION:14th Annual Alive and Running VA 5K Run/Walk for Suicide AwarenessSaturday\, September 12\, 20259 am Battle Creek VA Medical Center5500 Armstrong RoadBattle Creek\, MI 49037 www.aliveandrunningva.com 								\n				\n					\n		\n					\n		\n				\n						\n					\n			\n						\n				\n									\n					\n						\n									DOWNLOAD FLIER
URL:https://www.itcmi.org/event/caregiver-coffee-hour-5/
ATTACH;FMTTYPE=image/png:https://www.itcmi.org/wp-content/uploads/2025/05/Caregiver-Coffee-Hour-Flyer.png
END:VEVENT
BEGIN:VEVENT
DTSTART;TZID=UTC:20250930T090000
DTEND;TZID=UTC:20250930T210000
DTSTAMP:20260419T195724
CREATED:20250910T131813Z
LAST-MODIFIED:20250910T132644Z
UID:8423-1759222800-1759266000@www.itcmi.org
SUMMARY:Kurt Yacuone Classic Golf Scramble
DESCRIPTION:14th Annual Alive and Running VA 5K Run/Walk for Suicide AwarenessSaturday\, September 12\, 20259 am Battle Creek VA Medical Center5500 Armstrong RoadBattle Creek\, MI 49037 www.aliveandrunningva.com 								\n				\n					\n		\n					\n		\n				\n						\n					\n			\n						\n				\n									\n					\n						\n									DOWNLOAD FLIER
URL:https://www.itcmi.org/event/kurt-yacuone-classic-golf-scramble/
LOCATION:Wild Bluff Golf Course\, 11335 W. Lakeshore Drive\, Brimley\, MI\, 49715\, United States
ATTACH;FMTTYPE=image/png:https://www.itcmi.org/wp-content/uploads/2025/09/Kurt-Yacuone-Classic-Golf-Scramble.png
END:VEVENT
BEGIN:VEVENT
DTSTART;TZID=UTC:20250925T171500
DTEND;TZID=UTC:20250925T193000
DTSTAMP:20260419T195724
CREATED:20250902T172030Z
LAST-MODIFIED:20250902T172407Z
UID:8408-1758820500-1758828600@www.itcmi.org
SUMMARY:2025 Sault Tribe Recovery Walk - Sault Ste. Marie
DESCRIPTION:14th Annual Alive and Running VA 5K Run/Walk for Suicide AwarenessSaturday\, September 12\, 20259 am Battle Creek VA Medical Center5500 Armstrong RoadBattle Creek\, MI 49037 www.aliveandrunningva.com 								\n				\n					\n		\n					\n		\n				\n						\n					\n			\n						\n				\n									\n					\n						\n									DOWNLOAD FLIER
URL:https://www.itcmi.org/event/2025-sault-tribe-recovery-walk-sault-ste-marie/
LOCATION:Big Bear Arena\, 2 Ice Circle\, Sault Ste. Marie\, MI\, 49783\, United States
ATTACH;FMTTYPE=image/png:https://www.itcmi.org/wp-content/uploads/2025/09/2025-Recovery-Walk-Flyer.png
END:VEVENT
BEGIN:VEVENT
DTSTART;TZID=UTC:20250925T160000
DTEND;TZID=UTC:20250925T183000
DTSTAMP:20260419T195724
CREATED:20250521T141321Z
LAST-MODIFIED:20250521T141321Z
UID:8232-1758816000-1758825000@www.itcmi.org
SUMMARY:Brimley Bay Mills Farmers Market
DESCRIPTION:14th Annual Alive and Running VA 5K Run/Walk for Suicide AwarenessSaturday\, September 12\, 20259 am Battle Creek VA Medical Center5500 Armstrong RoadBattle Creek\, MI 49037 www.aliveandrunningva.com 								\n				\n					\n		\n					\n		\n				\n						\n					\n			\n						\n				\n									\n					\n						\n									DOWNLOAD FLIER
URL:https://www.itcmi.org/event/brimley-bay-mills-farmers-market-12/
LOCATION:Bay Mills Farmers Market Pavilion\, 11644 West Plantion Road\, Brimley\, 49715\, United States
ATTACH;FMTTYPE=image/png:https://www.itcmi.org/wp-content/uploads/2025/05/2025-Farmers-Market.png
END:VEVENT
BEGIN:VEVENT
DTSTART;TZID=UTC:20250924T173000
DTEND;TZID=UTC:20250924T190000
DTSTAMP:20260419T195724
CREATED:20250521T144706Z
LAST-MODIFIED:20250521T144706Z
UID:8248-1758735000-1758740400@www.itcmi.org
SUMMARY:Better Sleep Workshop Series
DESCRIPTION:14th Annual Alive and Running VA 5K Run/Walk for Suicide AwarenessSaturday\, September 12\, 20259 am Battle Creek VA Medical Center5500 Armstrong RoadBattle Creek\, MI 49037 www.aliveandrunningva.com 								\n				\n					\n		\n					\n		\n				\n						\n					\n			\n						\n				\n									\n					\n						\n									DOWNLOAD FLIER
URL:https://www.itcmi.org/event/better-sleep-workshop-series-10/
ATTACH;FMTTYPE=image/png:https://www.itcmi.org/wp-content/uploads/2025/05/Better-Sleep-Series.png
END:VEVENT
BEGIN:VEVENT
DTSTART;TZID=UTC:20250924T170000
DTEND;TZID=UTC:20250924T190000
DTSTAMP:20260419T195724
CREATED:20250915T181232Z
LAST-MODIFIED:20250915T181658Z
UID:8444-1758733200-1758740400@www.itcmi.org
SUMMARY:Dream Catcher Craft Night
DESCRIPTION:14th Annual Alive and Running VA 5K Run/Walk for Suicide AwarenessSaturday\, September 12\, 20259 am Battle Creek VA Medical Center5500 Armstrong RoadBattle Creek\, MI 49037 www.aliveandrunningva.com 								\n				\n					\n		\n					\n		\n				\n						\n					\n			\n						\n				\n									\n					\n						\n									DOWNLOAD FLIER
URL:https://www.itcmi.org/event/dream-catcher-craft-night/
LOCATION:Sault Tribe Niigaanagiizhik Ceremonial Building\, 11 Ice Circle\, Sault Ste. Marie\, MI\, 49783\, United States
ATTACH;FMTTYPE=image/png:https://www.itcmi.org/wp-content/uploads/2025/09/Dreamcatcher-Workshop.png
ORGANIZER;CN="Maddy Lamma":MAILTO:mlamma@itcmi.org
END:VEVENT
BEGIN:VEVENT
DTSTART;VALUE=DATE:20250924
DTEND;VALUE=DATE:20250928
DTSTAMP:20260419T195724
CREATED:20250919T132147Z
LAST-MODIFIED:20250919T132147Z
UID:8457-1758672000-1759017599@www.itcmi.org
SUMMARY:2025 National Association of Farmers Market Nutrition Programs
DESCRIPTION:14th Annual Alive and Running VA 5K Run/Walk for Suicide AwarenessSaturday\, September 12\, 20259 am Battle Creek VA Medical Center5500 Armstrong RoadBattle Creek\, MI 49037 www.aliveandrunningva.com 								\n				\n					\n		\n					\n		\n				\n						\n					\n			\n						\n				\n									\n					\n						\n									DOWNLOAD FLIER
URL:https://www.itcmi.org/event/2025-national-association-of-farmers-market-nutrition-programs/
ATTACH;FMTTYPE=image/jpeg:https://www.itcmi.org/wp-content/uploads/2025/09/National-Association-of-Farmers-Market-Nutrition-Programs.jpeg
END:VEVENT
BEGIN:VEVENT
DTSTART;TZID=UTC:20250923T170000
DTEND;TZID=UTC:20250923T190000
DTSTAMP:20260419T195724
CREATED:20250909T175005Z
LAST-MODIFIED:20250909T175400Z
UID:8419-1758646800-1758654000@www.itcmi.org
SUMMARY:Mishiimin Apple Teaching
DESCRIPTION:14th Annual Alive and Running VA 5K Run/Walk for Suicide AwarenessSaturday\, September 12\, 20259 am Battle Creek VA Medical Center5500 Armstrong RoadBattle Creek\, MI 49037 www.aliveandrunningva.com 								\n				\n					\n		\n					\n		\n				\n						\n					\n			\n						\n				\n									\n					\n						\n									DOWNLOAD FLIER
URL:https://www.itcmi.org/event/mishiimin-apple-teaching/
LOCATION:KBIC Health System\, 102 N Superior Avenue\, Baraga\, MI\, 49908\, United States
ATTACH;FMTTYPE=image/png:https://www.itcmi.org/wp-content/uploads/2025/09/Mishiimin-Apple.png
END:VEVENT
BEGIN:VEVENT
DTSTART;TZID=UTC:20250922T120000
DTEND;TZID=UTC:20250922T133000
DTSTAMP:20260419T195724
CREATED:20250820T172551Z
LAST-MODIFIED:20250820T180843Z
UID:8399-1758542400-1758547800@www.itcmi.org
SUMMARY:Behavioral Health Integration & Coding for Rural Health Clinics/FQHCS
DESCRIPTION:14th Annual Alive and Running VA 5K Run/Walk for Suicide AwarenessSaturday\, September 12\, 20259 am Battle Creek VA Medical Center5500 Armstrong RoadBattle Creek\, MI 49037 www.aliveandrunningva.com 								\n				\n					\n		\n					\n		\n				\n						\n					\n			\n						\n				\n									\n					\n						\n									DOWNLOAD FLIER
URL:https://www.itcmi.org/event/behavioral-health-integration-coding-for-rural-health-clinics-fqhcs/
ATTACH;FMTTYPE=image/png:https://www.itcmi.org/wp-content/uploads/2025/08/BHI-RHC.FQHC-Coding-Billing-Training-Flyer22.png
END:VEVENT
BEGIN:VEVENT
DTSTART;TZID=UTC:20250918T160000
DTEND;TZID=UTC:20250918T183000
DTSTAMP:20260419T195724
CREATED:20250521T141242Z
LAST-MODIFIED:20250521T141242Z
UID:8231-1758211200-1758220200@www.itcmi.org
SUMMARY:Brimley Bay Mills Farmers Market
DESCRIPTION:14th Annual Alive and Running VA 5K Run/Walk for Suicide AwarenessSaturday\, September 12\, 20259 am Battle Creek VA Medical Center5500 Armstrong RoadBattle Creek\, MI 49037 www.aliveandrunningva.com 								\n				\n					\n		\n					\n		\n				\n						\n					\n			\n						\n				\n									\n					\n						\n									DOWNLOAD FLIER
URL:https://www.itcmi.org/event/brimley-bay-mills-farmers-market-11/
LOCATION:Bay Mills Farmers Market Pavilion\, 11644 West Plantion Road\, Brimley\, 49715\, United States
ATTACH;FMTTYPE=image/png:https://www.itcmi.org/wp-content/uploads/2025/05/2025-Farmers-Market.png
END:VEVENT
BEGIN:VEVENT
DTSTART;TZID=UTC:20250918T140000
DTEND;TZID=UTC:20250918T150000
DTSTAMP:20260419T195724
CREATED:20250407T191248Z
LAST-MODIFIED:20250407T191248Z
UID:8092-1758204000-1758207600@www.itcmi.org
SUMMARY:Healthy Native People Coalition
DESCRIPTION:14th Annual Alive and Running VA 5K Run/Walk for Suicide AwarenessSaturday\, September 12\, 20259 am Battle Creek VA Medical Center5500 Armstrong RoadBattle Creek\, MI 49037 www.aliveandrunningva.com 								\n				\n					\n		\n					\n		\n				\n						\n					\n			\n						\n				\n									\n					\n						\n									DOWNLOAD FLIER
URL:https://www.itcmi.org/event/healthy-native-people-coalition-6/
ATTACH;FMTTYPE=image/png:https://www.itcmi.org/wp-content/uploads/2025/04/HNPC-Flyer.png
END:VEVENT
BEGIN:VEVENT
DTSTART;TZID=UTC:20250917T160000
DTEND;TZID=UTC:20250917T190000
DTSTAMP:20260419T195724
CREATED:20250818T131532Z
LAST-MODIFIED:20250818T131759Z
UID:8394-1758124800-1758135600@www.itcmi.org
SUMMARY:Manistee County Suicide Awareness & Prevention Coalition
DESCRIPTION:14th Annual Alive and Running VA 5K Run/Walk for Suicide AwarenessSaturday\, September 12\, 20259 am Battle Creek VA Medical Center5500 Armstrong RoadBattle Creek\, MI 49037 www.aliveandrunningva.com 								\n				\n					\n		\n					\n		\n				\n						\n					\n			\n						\n				\n									\n					\n						\n									DOWNLOAD FLIER
URL:https://www.itcmi.org/event/manistee-county-suicide-awareness-prevention-coalition/
LOCATION:Wagoner Community Center and Senior Center\, 260 St. Mary's Parkway\, Manistee\, MI\, 49660\, United States
ATTACH;FMTTYPE=image/png:https://www.itcmi.org/wp-content/uploads/2025/08/Suicide-Awareness-Prevention-Event-2025.png
END:VEVENT
BEGIN:VEVENT
DTSTART;TZID=UTC:20250913T130000
DTEND;TZID=UTC:20250913T170000
DTSTAMP:20260419T195724
CREATED:20250902T155152Z
LAST-MODIFIED:20250902T155531Z
UID:8405-1757768400-1757782800@www.itcmi.org
SUMMARY:End of Niibin
DESCRIPTION:14th Annual Alive and Running VA 5K Run/Walk for Suicide AwarenessSaturday\, September 12\, 20259 am Battle Creek VA Medical Center5500 Armstrong RoadBattle Creek\, MI 49037 www.aliveandrunningva.com 								\n				\n					\n		\n					\n		\n				\n						\n					\n			\n						\n				\n									\n					\n						\n									DOWNLOAD FLIER
URL:https://www.itcmi.org/event/end-of-niibin/
LOCATION:Broadway Park\, 2451 Nish Na Be Anong Rd\, Mt. Pleasant\, MI\, 48858\, United States
ATTACH;FMTTYPE=image/png:https://www.itcmi.org/wp-content/uploads/2025/09/End-of-Niibin.png
END:VEVENT
END:VCALENDAR