BEGIN:VCALENDAR
VERSION:2.0
PRODID:-//ITCMI - ECPv6.15.12.2//NONSGML v1.0//EN
CALSCALE:GREGORIAN
METHOD:PUBLISH
X-ORIGINAL-URL:https://www.itcmi.org
X-WR-CALDESC:Events for ITCMI
REFRESH-INTERVAL;VALUE=DURATION:PT1H
X-Robots-Tag:noindex
X-PUBLISHED-TTL:PT1H
BEGIN:VTIMEZONE
TZID:UTC
BEGIN:STANDARD
TZOFFSETFROM:+0000
TZOFFSETTO:+0000
TZNAME:UTC
DTSTART:20240101T000000
END:STANDARD
END:VTIMEZONE
BEGIN:VEVENT
DTSTART;TZID=UTC:20250509T083000
DTEND;TZID=UTC:20250509T120000
DTSTAMP:20260420T134758
CREATED:20250425T134256Z
LAST-MODIFIED:20250425T134730Z
UID:8168-1746779400-1746792000@www.itcmi.org
SUMMARY:Intergenerational Implicit Bias Presentation
DESCRIPTION:14th Annual Alive and Running VA 5K Run/Walk for Suicide AwarenessSaturday\, September 12\, 20259 am Battle Creek VA Medical Center5500 Armstrong RoadBattle Creek\, MI 49037 www.aliveandrunningva.com 								\n				\n					\n		\n					\n		\n				\n						\n					\n			\n						\n				\n									\n					\n						\n									DOWNLOAD FLIER
URL:https://www.itcmi.org/event/intergenerational-implicit-bias-presentation/
LOCATION:Escanaba Sault Tribe Community Center\, 3721 Jingob Street\, Escanaba\, MI\, 49829\, United States
ATTACH;FMTTYPE=image/jpeg:https://www.itcmi.org/wp-content/uploads/2025/04/Intergenerational-Implicit-Bias-FLYER.jpg
END:VEVENT
BEGIN:VEVENT
DTSTART;TZID=UTC:20250512T043000
DTEND;TZID=UTC:20250512T183000
DTSTAMP:20260420T134759
CREATED:20250505T140500Z
LAST-MODIFIED:20250505T141000Z
UID:8187-1747024200-1747074600@www.itcmi.org
SUMMARY:Addressing Family Violence & Abuse Sessions
DESCRIPTION:14th Annual Alive and Running VA 5K Run/Walk for Suicide AwarenessSaturday\, September 12\, 20259 am Battle Creek VA Medical Center5500 Armstrong RoadBattle Creek\, MI 49037 www.aliveandrunningva.com 								\n				\n					\n		\n					\n		\n				\n						\n					\n			\n						\n				\n									\n					\n						\n									DOWNLOAD FLIER
URL:https://www.itcmi.org/event/addressing-family-violence-abuse-sessions/
ATTACH;FMTTYPE=image/jpeg:https://www.itcmi.org/wp-content/uploads/2025/05/1000009688.jpg
END:VEVENT
BEGIN:VEVENT
DTSTART;VALUE=DATE:20250513
DTEND;VALUE=DATE:20250517
DTSTAMP:20260420T134759
CREATED:20250422T151744Z
LAST-MODIFIED:20250422T152230Z
UID:8128-1747094400-1747439999@www.itcmi.org
SUMMARY:KBIC Gathering of Native Americans (GONA)
DESCRIPTION:14th Annual Alive and Running VA 5K Run/Walk for Suicide AwarenessSaturday\, September 12\, 20259 am Battle Creek VA Medical Center5500 Armstrong RoadBattle Creek\, MI 49037 www.aliveandrunningva.com 								\n				\n					\n		\n					\n		\n				\n						\n					\n			\n						\n				\n									\n					\n						\n									DOWNLOAD FLIER
URL:https://www.itcmi.org/event/kbic-gathering-of-native-americans-gona/
LOCATION:Big Bucks Bingo Hall\, 16449 Michigan Avenue\, Baraga\, MI\, 49908\, United States
ATTACH;FMTTYPE=image/jpeg:https://www.itcmi.org/wp-content/uploads/2025/04/GONA-in-KBIC.jpg
END:VEVENT
BEGIN:VEVENT
DTSTART;VALUE=DATE:20250513
DTEND;VALUE=DATE:20250515
DTSTAMP:20260420T134759
CREATED:20250211T192207Z
LAST-MODIFIED:20250403T200907Z
UID:7885-1747094400-1747267199@www.itcmi.org
SUMMARY:Tribal Behavioral Health Conference: Embracing Gratitude - Miigwechiwendamowin
DESCRIPTION:14th Annual Alive and Running VA 5K Run/Walk for Suicide AwarenessSaturday\, September 12\, 20259 am Battle Creek VA Medical Center5500 Armstrong RoadBattle Creek\, MI 49037 www.aliveandrunningva.com 								\n				\n					\n		\n					\n		\n				\n						\n					\n			\n						\n				\n									\n					\n						\n									DOWNLOAD FLIER
URL:https://www.itcmi.org/event/tribal-behavioral-health-conference-embracing-gratitude-miigwechiwendamowin/
LOCATION:Grand Traverse Resort\, 100 Grand Traverse Village Blvd\, Acme\, MI\, 49610\, United States
ATTACH;FMTTYPE=image/png:https://www.itcmi.org/wp-content/uploads/2025/02/4th-Annual-BH-Conference-flyer-May-2025.png
ORGANIZER;CN="Arlene Kashata":MAILTO:akashata@itcmi.org
END:VEVENT
BEGIN:VEVENT
DTSTART;TZID=UTC:20250514T110000
DTEND;TZID=UTC:20250514T120000
DTSTAMP:20260420T134759
CREATED:20250321T135652Z
LAST-MODIFIED:20250403T200939Z
UID:8038-1747220400-1747224000@www.itcmi.org
SUMMARY:Healthy Start Family Play Group
DESCRIPTION:14th Annual Alive and Running VA 5K Run/Walk for Suicide AwarenessSaturday\, September 12\, 20259 am Battle Creek VA Medical Center5500 Armstrong RoadBattle Creek\, MI 49037 www.aliveandrunningva.com 								\n				\n					\n		\n					\n		\n				\n						\n					\n			\n						\n				\n									\n					\n						\n									DOWNLOAD FLIER
URL:https://www.itcmi.org/event/healthy-start-family-play-group-2/
LOCATION:American Indian Health and Family Services\, 4880 Lawndale\, Detroit\, 48210\, United States
ATTACH;FMTTYPE=image/png:https://www.itcmi.org/wp-content/uploads/2025/03/Play-Group.png
END:VEVENT
BEGIN:VEVENT
DTSTART;TZID=UTC:20250515T140000
DTEND;TZID=UTC:20250515T150000
DTSTAMP:20260420T134759
CREATED:20250407T190958Z
LAST-MODIFIED:20250407T190958Z
UID:8088-1747317600-1747321200@www.itcmi.org
SUMMARY:Healthy Native People Coalition
DESCRIPTION:14th Annual Alive and Running VA 5K Run/Walk for Suicide AwarenessSaturday\, September 12\, 20259 am Battle Creek VA Medical Center5500 Armstrong RoadBattle Creek\, MI 49037 www.aliveandrunningva.com 								\n				\n					\n		\n					\n		\n				\n						\n					\n			\n						\n				\n									\n					\n						\n									DOWNLOAD FLIER
URL:https://www.itcmi.org/event/healthy-native-people-coalition-2/
ATTACH;FMTTYPE=image/png:https://www.itcmi.org/wp-content/uploads/2025/04/HNPC-Flyer.png
END:VEVENT
BEGIN:VEVENT
DTSTART;TZID=UTC:20250515T170000
DTEND;TZID=UTC:20250515T190000
DTSTAMP:20260420T134759
CREATED:20250422T183737Z
LAST-MODIFIED:20250422T183927Z
UID:8142-1747328400-1747335600@www.itcmi.org
SUMMARY:Children's Mental Health Awareness Day & National Prevention Week
DESCRIPTION:14th Annual Alive and Running VA 5K Run/Walk for Suicide AwarenessSaturday\, September 12\, 20259 am Battle Creek VA Medical Center5500 Armstrong RoadBattle Creek\, MI 49037 www.aliveandrunningva.com 								\n				\n					\n		\n					\n		\n				\n						\n					\n			\n						\n				\n									\n					\n						\n									DOWNLOAD FLIER
URL:https://www.itcmi.org/event/childrens-mental-health-awareness-day-national-prevention-week/
LOCATION:American Indian Health and Family Services\, 4880 Lawndale\, Detroit\, 48210\, United States
ATTACH;FMTTYPE=image/png:https://www.itcmi.org/wp-content/uploads/2025/04/Screenshot-2025-04-18-083318.png
END:VEVENT
BEGIN:VEVENT
DTSTART;VALUE=DATE:20250517
DTEND;VALUE=DATE:20250518
DTSTAMP:20260420T134759
CREATED:20250321T132933Z
LAST-MODIFIED:20250422T145052Z
UID:8029-1747440000-1747526399@www.itcmi.org
SUMMARY:AIHFS Pow Wow in the D
DESCRIPTION:14th Annual Alive and Running VA 5K Run/Walk for Suicide AwarenessSaturday\, September 12\, 20259 am Battle Creek VA Medical Center5500 Armstrong RoadBattle Creek\, MI 49037 www.aliveandrunningva.com 								\n				\n					\n		\n					\n		\n				\n						\n					\n			\n						\n				\n									\n					\n						\n									DOWNLOAD FLIER
URL:https://www.itcmi.org/event/aihfs-pow-wow-in-the-d/
ATTACH;FMTTYPE=image/png:https://www.itcmi.org/wp-content/uploads/2025/04/Powwow-Flyer-w-links-.png
END:VEVENT
BEGIN:VEVENT
DTSTART;TZID=UTC:20250517T190000
DTEND;TZID=UTC:20250517T220000
DTSTAMP:20260420T134759
CREATED:20250512T144828Z
LAST-MODIFIED:20250512T150331Z
UID:8203-1747508400-1747519200@www.itcmi.org
SUMMARY:Free Shrugs Improv
DESCRIPTION:14th Annual Alive and Running VA 5K Run/Walk for Suicide AwarenessSaturday\, September 12\, 20259 am Battle Creek VA Medical Center5500 Armstrong RoadBattle Creek\, MI 49037 www.aliveandrunningva.com 								\n				\n					\n		\n					\n		\n				\n						\n					\n			\n						\n				\n									\n					\n						\n									DOWNLOAD FLIER
URL:https://www.itcmi.org/event/free-shrugs-improv/
LOCATION:Soo Theatre\, 534 Ashmun Street\, Sault Sainte Marie\, MI\, 49783\, United States
ATTACH;FMTTYPE=image/png:https://www.itcmi.org/wp-content/uploads/2025/05/Compass-Pregnancy-Center-Flyer.png
END:VEVENT
BEGIN:VEVENT
DTSTART;TZID=UTC:20250518T140000
DTEND;TZID=UTC:20250518T150000
DTSTAMP:20260420T134759
CREATED:20241001T123928Z
LAST-MODIFIED:20250403T201034Z
UID:7662-1747576800-1747580400@www.itcmi.org
SUMMARY:Native Family Engagement Events
DESCRIPTION:14th Annual Alive and Running VA 5K Run/Walk for Suicide AwarenessSaturday\, September 12\, 20259 am Battle Creek VA Medical Center5500 Armstrong RoadBattle Creek\, MI 49037 www.aliveandrunningva.com 								\n				\n					\n		\n					\n		\n				\n						\n					\n			\n						\n				\n									\n					\n						\n									DOWNLOAD FLIER
URL:https://www.itcmi.org/event/native-family-engagement-events-2/
LOCATION:Nokomis Cultural Heritage Center\, 5153 Marsh Road\, Okemos\, 48864\, United States
ATTACH;FMTTYPE=image/png:https://www.itcmi.org/wp-content/uploads/2024/09/HRSA-Listening-Sessions-Flyer-Ingham70.png
ORGANIZER;CN="Devin Smith":MAILTO:devin.smith@itcmi.org
END:VEVENT
BEGIN:VEVENT
DTSTART;TZID=UTC:20250520T103000
DTEND;TZID=UTC:20250520T120000
DTSTAMP:20260420T134759
CREATED:20250407T155245Z
LAST-MODIFIED:20250407T155245Z
UID:8080-1747737000-1747742400@www.itcmi.org
SUMMARY:Sacred Pregnancy Training Series
DESCRIPTION:14th Annual Alive and Running VA 5K Run/Walk for Suicide AwarenessSaturday\, September 12\, 20259 am Battle Creek VA Medical Center5500 Armstrong RoadBattle Creek\, MI 49037 www.aliveandrunningva.com 								\n				\n					\n		\n					\n		\n				\n						\n					\n			\n						\n				\n									\n					\n						\n									DOWNLOAD FLIER
URL:https://www.itcmi.org/event/sacred-pregnancy-training-series-2/
ATTACH;FMTTYPE=image/png:https://www.itcmi.org/wp-content/uploads/2025/04/Sacred-Pregnancy-Training-Series-Flyer-Distributed.png
END:VEVENT
BEGIN:VEVENT
DTSTART;TZID=UTC:20250520T180000
DTEND;TZID=UTC:20250520T193000
DTSTAMP:20260420T134759
CREATED:20250422T185508Z
LAST-MODIFIED:20250422T185733Z
UID:8149-1747764000-1747769400@www.itcmi.org
SUMMARY:Skywood Recovery:  Suicide Prevention 101
DESCRIPTION:14th Annual Alive and Running VA 5K Run/Walk for Suicide AwarenessSaturday\, September 12\, 20259 am Battle Creek VA Medical Center5500 Armstrong RoadBattle Creek\, MI 49037 www.aliveandrunningva.com 								\n				\n					\n		\n					\n		\n				\n						\n					\n			\n						\n				\n									\n					\n						\n									DOWNLOAD FLIER
URL:https://www.itcmi.org/event/skywood-recovery-suicide-prevention-101/
ATTACH;FMTTYPE=image/png:https://www.itcmi.org/wp-content/uploads/2025/04/Suicide-Prevention-101-Flyer-5.20.25.png
END:VEVENT
BEGIN:VEVENT
DTSTART;TZID=UTC:20250521T160000
DTEND;TZID=UTC:20250521T170000
DTSTAMP:20260420T134759
CREATED:20250321T134454Z
LAST-MODIFIED:20250403T201100Z
UID:8033-1747843200-1747846800@www.itcmi.org
SUMMARY:Fatherhood Support & Education Group
DESCRIPTION:14th Annual Alive and Running VA 5K Run/Walk for Suicide AwarenessSaturday\, September 12\, 20259 am Battle Creek VA Medical Center5500 Armstrong RoadBattle Creek\, MI 49037 www.aliveandrunningva.com 								\n				\n					\n		\n					\n		\n				\n						\n					\n			\n						\n				\n									\n					\n						\n									DOWNLOAD FLIER
URL:https://www.itcmi.org/event/fatherhood-support-education-group-2/
LOCATION:American Indian Health and Family Services\, 4880 Lawndale\, Detroit\, 48210\, United States
ATTACH;FMTTYPE=image/png:https://www.itcmi.org/wp-content/uploads/2025/03/Father-support-group.png
END:VEVENT
BEGIN:VEVENT
DTSTART;TZID=UTC:20250524T100000
DTEND;TZID=UTC:20250524T110000
DTSTAMP:20260420T134759
CREATED:20250303T163557Z
LAST-MODIFIED:20250403T201128Z
UID:7961-1748080800-1748084400@www.itcmi.org
SUMMARY:Postpartum Support Group
DESCRIPTION:14th Annual Alive and Running VA 5K Run/Walk for Suicide AwarenessSaturday\, September 12\, 20259 am Battle Creek VA Medical Center5500 Armstrong RoadBattle Creek\, MI 49037 www.aliveandrunningva.com 								\n				\n					\n		\n					\n		\n				\n						\n					\n			\n						\n				\n									\n					\n						\n									DOWNLOAD FLIER
URL:https://www.itcmi.org/event/postpartum-support-group-2/
ATTACH;FMTTYPE=image/png:https://www.itcmi.org/wp-content/uploads/2025/03/Postpartum-Support-Group-Final.png
END:VEVENT
BEGIN:VEVENT
DTSTART;TZID=UTC:20250527T100000
DTEND;TZID=UTC:20250527T110000
DTSTAMP:20260420T134759
CREATED:20250521T134517Z
LAST-MODIFIED:20250521T134822Z
UID:8209-1748340000-1748343600@www.itcmi.org
SUMMARY:Caregiver Coffee Hour
DESCRIPTION:14th Annual Alive and Running VA 5K Run/Walk for Suicide AwarenessSaturday\, September 12\, 20259 am Battle Creek VA Medical Center5500 Armstrong RoadBattle Creek\, MI 49037 www.aliveandrunningva.com 								\n				\n					\n		\n					\n		\n				\n						\n					\n			\n						\n				\n									\n					\n						\n									DOWNLOAD FLIER
URL:https://www.itcmi.org/event/caregiver-coffee-hour/
ATTACH;FMTTYPE=image/png:https://www.itcmi.org/wp-content/uploads/2025/05/Caregiver-Coffee-Hour-Flyer.png
END:VEVENT
BEGIN:VEVENT
DTSTART;VALUE=DATE:20250528
DTEND;VALUE=DATE:20250529
DTSTAMP:20260420T134759
CREATED:20250128T194014Z
LAST-MODIFIED:20250403T201155Z
UID:7854-1748390400-1748476799@www.itcmi.org
SUMMARY:Cancer in Rural Communities:  A GW Cancer Center Community of Practice
DESCRIPTION:14th Annual Alive and Running VA 5K Run/Walk for Suicide AwarenessSaturday\, September 12\, 20259 am Battle Creek VA Medical Center5500 Armstrong RoadBattle Creek\, MI 49037 www.aliveandrunningva.com 								\n				\n					\n		\n					\n		\n				\n						\n					\n			\n						\n				\n									\n					\n						\n									DOWNLOAD FLIER
URL:https://www.itcmi.org/event/cancer-in-rural-communities-a-gw-cancer-center-community-of-practice-2/
ATTACH;FMTTYPE=image/png:https://www.itcmi.org/wp-content/uploads/2025/01/Screenshot-2025-01-28-at-2.11.24 PM.png
END:VEVENT
BEGIN:VEVENT
DTSTART;VALUE=DATE:20250528
DTEND;VALUE=DATE:20250529
DTSTAMP:20260420T134759
CREATED:20250509T153937Z
LAST-MODIFIED:20250509T160036Z
UID:8198-1748390400-1748476799@www.itcmi.org
SUMMARY:Household Hazardous Waste Collection Events
DESCRIPTION:14th Annual Alive and Running VA 5K Run/Walk for Suicide AwarenessSaturday\, September 12\, 20259 am Battle Creek VA Medical Center5500 Armstrong RoadBattle Creek\, MI 49037 www.aliveandrunningva.com 								\n				\n					\n		\n					\n		\n				\n						\n					\n			\n						\n				\n									\n					\n						\n									DOWNLOAD FLIER
URL:https://www.itcmi.org/event/household-hazardous-waste-collection-events/
ATTACH;FMTTYPE=image/png:https://www.itcmi.org/wp-content/uploads/2025/05/HHW-Flyer-.png
END:VEVENT
BEGIN:VEVENT
DTSTART;VALUE=DATE:20250529
DTEND;VALUE=DATE:20250530
DTSTAMP:20260420T134759
CREATED:20250509T160155Z
LAST-MODIFIED:20250509T160155Z
UID:8199-1748476800-1748563199@www.itcmi.org
SUMMARY:Household Hazardous Waste Collection Events
DESCRIPTION:14th Annual Alive and Running VA 5K Run/Walk for Suicide AwarenessSaturday\, September 12\, 20259 am Battle Creek VA Medical Center5500 Armstrong RoadBattle Creek\, MI 49037 www.aliveandrunningva.com 								\n				\n					\n		\n					\n		\n				\n						\n					\n			\n						\n				\n									\n					\n						\n									DOWNLOAD FLIER
URL:https://www.itcmi.org/event/household-hazardous-waste-collection-events-2/
ATTACH;FMTTYPE=image/png:https://www.itcmi.org/wp-content/uploads/2025/05/HHW-Flyer-.png
END:VEVENT
BEGIN:VEVENT
DTSTART;TZID=UTC:20250531T110000
DTEND;TZID=UTC:20250531T143000
DTSTAMP:20260420T134759
CREATED:20250422T141811Z
LAST-MODIFIED:20250422T142804Z
UID:8102-1748689200-1748701800@www.itcmi.org
SUMMARY:3rd Annual Spirit Walk:  For Safe Communities
DESCRIPTION:14th Annual Alive and Running VA 5K Run/Walk for Suicide AwarenessSaturday\, September 12\, 20259 am Battle Creek VA Medical Center5500 Armstrong RoadBattle Creek\, MI 49037 www.aliveandrunningva.com 								\n				\n					\n		\n					\n		\n				\n						\n					\n			\n						\n				\n									\n					\n						\n									DOWNLOAD FLIER
URL:https://www.itcmi.org/event/3rd-annual-spirit-walk-for-safe-communities/
LOCATION:Bay Mills Farmers Market Pavilion\, 11644 West Plantion Road\, Brimley\, 49715\, United States
ATTACH;FMTTYPE=image/png:https://www.itcmi.org/wp-content/uploads/2025/04/3rd-Annual-Spirit-Walk-for-Safe-Communities-Flyer-4.png
END:VEVENT
BEGIN:VEVENT
DTSTART;TZID=UTC:20250604T110000
DTEND;TZID=UTC:20250604T120000
DTSTAMP:20260420T134759
CREATED:20250321T135747Z
LAST-MODIFIED:20250403T201219Z
UID:8039-1749034800-1749038400@www.itcmi.org
SUMMARY:Healthy Start Family Play Group
DESCRIPTION:14th Annual Alive and Running VA 5K Run/Walk for Suicide AwarenessSaturday\, September 12\, 20259 am Battle Creek VA Medical Center5500 Armstrong RoadBattle Creek\, MI 49037 www.aliveandrunningva.com 								\n				\n					\n		\n					\n		\n				\n						\n					\n			\n						\n				\n									\n					\n						\n									DOWNLOAD FLIER
URL:https://www.itcmi.org/event/healthy-start-family-play-group-3/
LOCATION:American Indian Health and Family Services\, 4880 Lawndale\, Detroit\, 48210\, United States
ATTACH;FMTTYPE=image/png:https://www.itcmi.org/wp-content/uploads/2025/03/Play-Group.png
END:VEVENT
BEGIN:VEVENT
DTSTART;TZID=UTC:20250604T150000
DTEND;TZID=UTC:20250604T170000
DTSTAMP:20260420T134759
CREATED:20250509T141723Z
LAST-MODIFIED:20250509T142312Z
UID:8193-1749049200-1749056400@www.itcmi.org
SUMMARY:Anishinaabe Baaga'adowewin (Traditional Lacrosse) Community Event
DESCRIPTION:14th Annual Alive and Running VA 5K Run/Walk for Suicide AwarenessSaturday\, September 12\, 20259 am Battle Creek VA Medical Center5500 Armstrong RoadBattle Creek\, MI 49037 www.aliveandrunningva.com 								\n				\n					\n		\n					\n		\n				\n						\n					\n			\n						\n				\n									\n					\n						\n									DOWNLOAD FLIER
URL:https://www.itcmi.org/event/anishinaabe-baagaadowewin-traditional-lacrosse-community-event/
LOCATION:Fort Michilimackinac\, 102 W. Straits Avenue\, Mackinaw City\, MI\, 49701\, United States
ATTACH;FMTTYPE=image/png:https://www.itcmi.org/wp-content/uploads/2025/05/Baagaadowewin-Community-Event-06.04.254.png
END:VEVENT
BEGIN:VEVENT
DTSTART;VALUE=DATE:20250606
DTEND;VALUE=DATE:20250607
DTSTAMP:20260420T134759
CREATED:20250212T185453Z
LAST-MODIFIED:20250403T201245Z
UID:7896-1749168000-1749254399@www.itcmi.org
SUMMARY:Light Up The Rez 5K and Turtle Trot
DESCRIPTION:14th Annual Alive and Running VA 5K Run/Walk for Suicide AwarenessSaturday\, September 12\, 20259 am Battle Creek VA Medical Center5500 Armstrong RoadBattle Creek\, MI 49037 www.aliveandrunningva.com 								\n				\n					\n		\n					\n		\n				\n						\n					\n			\n						\n				\n									\n					\n						\n									DOWNLOAD FLIER
URL:https://www.itcmi.org/event/light-up-the-rez-5k-and-turtle-trot/
ATTACH;FMTTYPE=image/jpeg:https://www.itcmi.org/wp-content/uploads/2025/02/5K_and_Turtle_Trot_2025_mini_v2.jpg
END:VEVENT
BEGIN:VEVENT
DTSTART;VALUE=DATE:20250610
DTEND;VALUE=DATE:20250613
DTSTAMP:20260420T134759
CREATED:20250404T175545Z
LAST-MODIFIED:20250404T180004Z
UID:8073-1749513600-1749772799@www.itcmi.org
SUMMARY:GONA Rooted in Wellness
DESCRIPTION:14th Annual Alive and Running VA 5K Run/Walk for Suicide AwarenessSaturday\, September 12\, 20259 am Battle Creek VA Medical Center5500 Armstrong RoadBattle Creek\, MI 49037 www.aliveandrunningva.com 								\n				\n					\n		\n					\n		\n				\n						\n					\n			\n						\n				\n									\n					\n						\n									DOWNLOAD FLIER
URL:https://www.itcmi.org/event/gona-rooted-in-wellness/
LOCATION:Bay Mills Resort and Casino\, 11386 W. Lakeshore Drive\, Brimley\, 49715\, United States
ATTACH;FMTTYPE=image/png:https://www.itcmi.org/wp-content/uploads/2025/04/GONA-Rooted-in-Wellness-Flyer-363.png
END:VEVENT
BEGIN:VEVENT
DTSTART;TZID=UTC:20250610T103000
DTEND;TZID=UTC:20250610T120000
DTSTAMP:20260420T134759
CREATED:20250407T155321Z
LAST-MODIFIED:20250407T155321Z
UID:8081-1749551400-1749556800@www.itcmi.org
SUMMARY:Sacred Pregnancy Training Series
DESCRIPTION:14th Annual Alive and Running VA 5K Run/Walk for Suicide AwarenessSaturday\, September 12\, 20259 am Battle Creek VA Medical Center5500 Armstrong RoadBattle Creek\, MI 49037 www.aliveandrunningva.com 								\n				\n					\n		\n					\n		\n				\n						\n					\n			\n						\n				\n									\n					\n						\n									DOWNLOAD FLIER
URL:https://www.itcmi.org/event/sacred-pregnancy-training-series-3/
ATTACH;FMTTYPE=image/png:https://www.itcmi.org/wp-content/uploads/2025/04/Sacred-Pregnancy-Training-Series-Flyer-Distributed.png
END:VEVENT
BEGIN:VEVENT
DTSTART;TZID=UTC:20250617T110000
DTEND;TZID=UTC:20250617T130000
DTSTAMP:20260420T134759
CREATED:20250423T144121Z
LAST-MODIFIED:20250423T144411Z
UID:8155-1750158000-1750165200@www.itcmi.org
SUMMARY:KBIC Community Health Fair
DESCRIPTION:14th Annual Alive and Running VA 5K Run/Walk for Suicide AwarenessSaturday\, September 12\, 20259 am Battle Creek VA Medical Center5500 Armstrong RoadBattle Creek\, MI 49037 www.aliveandrunningva.com 								\n				\n					\n		\n					\n		\n				\n						\n					\n			\n						\n				\n									\n					\n						\n									DOWNLOAD FLIER
URL:https://www.itcmi.org/event/kbic-community-health-fair/
LOCATION:Niiwin Akeaa Community Center\, 111 Beartown Road\, Baraga\, MI\, 49783\, United States
ATTACH;FMTTYPE=image/jpeg:https://www.itcmi.org/wp-content/uploads/2025/04/Health-Fair-June-2025.jpg
END:VEVENT
BEGIN:VEVENT
DTSTART;VALUE=DATE:20250621
DTEND;VALUE=DATE:20250622
DTSTAMP:20260420T134759
CREATED:20250212T182613Z
LAST-MODIFIED:20250403T201312Z
UID:7891-1750464000-1750550399@www.itcmi.org
SUMMARY:Nottawaseppi Huron Band of the Potawatomi Annual Pow Wow
DESCRIPTION:14th Annual Alive and Running VA 5K Run/Walk for Suicide AwarenessSaturday\, September 12\, 20259 am Battle Creek VA Medical Center5500 Armstrong RoadBattle Creek\, MI 49037 www.aliveandrunningva.com 								\n				\n					\n		\n					\n		\n				\n						\n					\n			\n						\n				\n									\n					\n						\n									DOWNLOAD FLIER
URL:https://www.itcmi.org/event/nottawaseppi-huron-band-of-the-potawatomi-annual-pow-wow/
LOCATION:Pine Creek Indian Reservation\, 1485 Mno-Bmadzewen Way\, Fulton\, MI\, 49052\, United States
ATTACH;FMTTYPE=image/jpeg:https://www.itcmi.org/wp-content/uploads/2025/02/2025_Pow_Wow_Save_the_Date_FB_MINI_MO-1.jpg
END:VEVENT
BEGIN:VEVENT
DTSTART;VALUE=DATE:20250624
DTEND;VALUE=DATE:20250625
DTSTAMP:20260420T134759
CREATED:20250509T160236Z
LAST-MODIFIED:20250509T160236Z
UID:8200-1750723200-1750809599@www.itcmi.org
SUMMARY:Household Hazardous Waste Collection Events
DESCRIPTION:14th Annual Alive and Running VA 5K Run/Walk for Suicide AwarenessSaturday\, September 12\, 20259 am Battle Creek VA Medical Center5500 Armstrong RoadBattle Creek\, MI 49037 www.aliveandrunningva.com 								\n				\n					\n		\n					\n		\n				\n						\n					\n			\n						\n				\n									\n					\n						\n									DOWNLOAD FLIER
URL:https://www.itcmi.org/event/household-hazardous-waste-collection-events-3/
ATTACH;FMTTYPE=image/png:https://www.itcmi.org/wp-content/uploads/2025/05/HHW-Flyer-.png
END:VEVENT
BEGIN:VEVENT
DTSTART;TZID=UTC:20250624T100000
DTEND;TZID=UTC:20250624T110000
DTSTAMP:20260420T134759
CREATED:20250521T134923Z
LAST-MODIFIED:20250521T134923Z
UID:8212-1750759200-1750762800@www.itcmi.org
SUMMARY:Caregiver Coffee Hour
DESCRIPTION:14th Annual Alive and Running VA 5K Run/Walk for Suicide AwarenessSaturday\, September 12\, 20259 am Battle Creek VA Medical Center5500 Armstrong RoadBattle Creek\, MI 49037 www.aliveandrunningva.com 								\n				\n					\n		\n					\n		\n				\n						\n					\n			\n						\n				\n									\n					\n						\n									DOWNLOAD FLIER
URL:https://www.itcmi.org/event/caregiver-coffee-hour-2/
ATTACH;FMTTYPE=image/png:https://www.itcmi.org/wp-content/uploads/2025/05/Caregiver-Coffee-Hour-Flyer.png
END:VEVENT
BEGIN:VEVENT
DTSTART;VALUE=DATE:20250625
DTEND;VALUE=DATE:20250626
DTSTAMP:20260420T134759
CREATED:20250128T194101Z
LAST-MODIFIED:20250403T201338Z
UID:7855-1750809600-1750895999@www.itcmi.org
SUMMARY:Cancer in Rural Communities:  A GW Cancer Center Community of Practice
DESCRIPTION:14th Annual Alive and Running VA 5K Run/Walk for Suicide AwarenessSaturday\, September 12\, 20259 am Battle Creek VA Medical Center5500 Armstrong RoadBattle Creek\, MI 49037 www.aliveandrunningva.com 								\n				\n					\n		\n					\n		\n				\n						\n					\n			\n						\n				\n									\n					\n						\n									DOWNLOAD FLIER
URL:https://www.itcmi.org/event/cancer-in-rural-communities-a-gw-cancer-center-community-of-practice-3/
ATTACH;FMTTYPE=image/png:https://www.itcmi.org/wp-content/uploads/2025/01/Screenshot-2025-01-28-at-2.11.24 PM.png
END:VEVENT
BEGIN:VEVENT
DTSTART;VALUE=DATE:20250625
DTEND;VALUE=DATE:20250626
DTSTAMP:20260420T134759
CREATED:20250509T160337Z
LAST-MODIFIED:20250509T160337Z
UID:8201-1750809600-1750895999@www.itcmi.org
SUMMARY:Household Hazardous Waste Collection Events
DESCRIPTION:14th Annual Alive and Running VA 5K Run/Walk for Suicide AwarenessSaturday\, September 12\, 20259 am Battle Creek VA Medical Center5500 Armstrong RoadBattle Creek\, MI 49037 www.aliveandrunningva.com 								\n				\n					\n		\n					\n		\n				\n						\n					\n			\n						\n				\n									\n					\n						\n									DOWNLOAD FLIER
URL:https://www.itcmi.org/event/household-hazardous-waste-collection-events-4/
ATTACH;FMTTYPE=image/png:https://www.itcmi.org/wp-content/uploads/2025/05/HHW-Flyer-.png
END:VEVENT
END:VCALENDAR